BEGIN:VCALENDAR
PRODID:-//kirchenweb.ch gmbh//veranstaltungsausgabe v2.0//DE
VERSION:2.0
METHOD:PUBLISH
BEGIN:VEVENT
DTSTART:20260510T073000Z
DTEND:20260510T083000Z
LOCATION:in der Kirche\, \, 3271 Radelfingen
TRANSP:OPAQUE
SEQUENCE:0
UID:80124-veranstaltung@kirchenregion-aarberg.ch
DTSTAMP:20260104T201055Z
DESCRIPTION:Pfrn. Lea Dürig\nKäthi Werder\, Orgel\n\nKollekte:
  Kirchliche Gassenarbeit\n\nKontakt: andrea.staub@kirche-radelfingen.ch\n
 \nWeitere Infos: https://www.kirchenregion-aarberg.ch/veranstaltung/80124
SUMMARY:Gottesdienst zum Muttertag
PRIORITY:5
X-MICROSOFT-CDO-IMPORTANCE:1
CLASS:PUBLIC
END:VEVENT
END:VCALENDAR
